Workbook
Name JLPTレベル: 'データ（学校番号・国番号等）'!$L$2:$L$7
Name JLPTレベル: 'データ（学校番号・国番号等）'!$L$2:$L$7
Name JLPTレベル: 'データ（学校番号・国番号等）'!$L$2:$L$7
Name 月: 'データ（学校番号・国番号等）'!$J$2:$J$14
Name 月: 'データ（学校番号・国番号等）'!$J$2:$J$14
Name 月: 'データ（学校番号・国番号等）'!$J$2:$J$14
Name 査証申請予定の_国籍国在外公館: 'データ（学校番号・国番号等）'!$N$2:$N$244
Name 査証申請予定の_国籍国在外公館: 'データ（学校番号・国番号等）'!$N$2:$N$244
Name 査証申請予定の_国籍国在外公館: 'データ（学校番号・国番号等）'!$N$2:$N$244
Name 最終学歴: '[1]データ（学校番号・国番号等）'!$H$2:$H$4
Name 主専攻: 'データ（学校番号・国番号等）'!$F$2:$F$4
Name 主専攻: 'データ（学校番号・国番号等）'!$F$2:$F$4
Name 主専攻: 'データ（学校番号・国番号等）'!$F$2:$F$4
Name 性別: 'データ（学校番号・国番号等）'!$C$2:$C$3
Name 性別: 'データ（学校番号・国番号等）'!$C$2:$C$3
Name 性別: 'データ（学校番号・国番号等）'!$C$2:$C$3
Name 専攻分野: '[1]データ（学校番号・国番号等）'!$G$2:$G$15
Name 日: 'データ（学校番号・国番号等）'!$K$2:$K$33
Name 日: 'データ（学校番号・国番号等）'!$K$2:$K$33
Name 日: 'データ（学校番号・国番号等）'!$K$2:$K$33
Name 年_下2桁: 'データ（学校番号・国番号等）'!$I$2:$I$30
Name 年_下2桁: 'データ（学校番号・国番号等）'!$I$2:$I$30
Name 年_下2桁: 'データ（学校番号・国番号等）'!$I$2:$I$30
Name 年_支給期間等: '[1]データ（学校番号・国番号等）'!$L$2:$L$22
Name 年_生年月日等: '[1]データ（学校番号・国番号等）'!$K$2:$K$34
Name 年_西暦: 'データ（学校番号・国番号等）'!$H$2:$H$58
Name 年_西暦: 'データ（学校番号・国番号等）'!$H$2:$H$58
Name 年_西暦: 'データ（学校番号・国番号等）'!$H$2:$H$58
Name 文部科学省への推薦: 'データ（学校番号・国番号等）'!$M$2
Name 文部科学省への推薦: 'データ（学校番号・国番号等）'!$M$2
Name 文部科学省への推薦: 'データ（学校番号・国番号等）'!$M$2
Name 文理の別: '[1]データ（学校番号・国番号等）'!$F$2:$F$3
Name 有無: 'データ（学校番号・国番号等）'!$G$2:$G$3
Name 有無: 'データ（学校番号・国番号等）'!$G$2:$G$3
Name 有無: 'データ（学校番号・国番号等）'!$G$2:$G$3

Sheet 01
A1: 2025年度国費外国人留学生（日本語・日本文化研修留学生）推薦調書（別紙様式１）
A3: 大学名 | H3: =IFERROR(VLOOKUP(W3,'データ（学校番号・国番号等）'!$A$2:$B$74,2,0),"自動表示") -> 自動表示 | S3: 学校番号
A5: 申請区分 | H5: 日本語・日本文化研修留学生 | AF5: 推薦順位
A6: 氏名 | AF6: 第 | AI6: 位/ | AM6: 人中
A7: 生年月日 | N7: 年 | R7: 月 | V7: 日 | W7: （ | X7: =IFERROR(DATEDIF($AP$7,$AQ$7,"Y"),"") | AA7: 才） | AC7: 性別 | AP7: =IF(S7="","",H7&"/"&O7&"/"&S7) | AQ7: 45748
A8: 国籍 | H8: =IFERROR(VLOOKUP(AB8,'データ（学校番号・国番号等）'!$D$2:$E$292,2,0),"自動表示") -> 自動表示 | W8: 国番号
A9: 現住所 | H9: 都市名（又は州・県） | W9: 国名 | Z9: =IFERROR(VLOOKUP(AJ9,'データ（学校番号・国番号等）'!D:E,2,FALSE),"自動表示") -> 自動表示 | AG9: 国番号
A10: 渡日前住所 | H10: 都市名（又は州・県） | W10: 国名 | Z10: =IFERROR(VLOOKUP(AJ10,'データ（学校番号・国番号等）'!D:E,2,FALSE),"自動表示") -> 自動表示 | AG10: 国番号
A11: 電話番号 | U11: E-mail
A12: 在籍大学 | H12: 大学名
H13: 学部・学科名 | Z13: 主専攻
H14: 在籍期間 | P14: 20 | T14: 年 | W14: 月 | X14: ～ | Y14: 2025 | AC14: 年 | AD14: 8 | AF14: 月 | AH14: =IFERROR(DATEDIF(AP14,AQ14,"M"),"") | AJ14: ヶ月間 | AP14: =IF(U14<>"",P14&R14&"/"&U14&"/"&1,"") | AQ14: 45901
H15: 日本語・日本文化学習歴 | P15: 20 | T15: 年 | W15: 月 | X15: ～ | Y15: 2025 | AC15: 年 | AD15: 8 | AF15: 月 | AH15: =IFERROR(DATEDIF(AP15,AQ15,"M"),"") | AJ15: ヶ月間 | AP15: =IF(U15<>"",P15&R15&"/"&U15&"/"&1,"") | AQ15: 45901
H16: 卒業見込年月 | P16: 20 | T16: 年 | W16: 月 | X16: ※本プログラムに採用された場合の卒業見込年月
A17: 在籍大学以外の大学 ※該当者のみ | H17: 大学名
H18: 日本語・日本文化学習歴 | P18: 20 | T18: 年 | W18: 月 | X18: ～ | Y18: 20 | AC18: 年 | AF18: 月 | AH18: =IFERROR(DATEDIF(AP18,AQ18,"M")+1,"") | AJ18: ヶ月間 | AP18: =IF(AD18<>"",P18&R18&"/"&U18&"/"&1,"") | AQ18: =IF(AD18<>"",Y18&AA18&"/"&AD18&"/"&1,"")
A19: 該当する語学能力条件番号
A20: 日本語能力（資格） | H20: 日本語能力試験（JLPT） | P20: レベル | U20: 総合得点 | Z20: その他の 資格名 | AJ20: 得点／スコア等
A21: 英語能力（資格） | H21: TOEFL | N21: IELTS | T21: その他の 資格名 | AD21: 得点／スコア等
A22: 希望奨学金支給期間 | H22: 2025 | L22: 年 | O22: 月 | P22: ～ | Q22: 2026 | U22: 年 | X22: 月 | Z22: =IFERROR(DATEDIF(AP22,AQ22,"M")+1,"") | AB22: ヶ月間 | AP22: =IF(M22<>"",H22&"/"&M22&"/"&1,"") | AQ22: =IF(V22<>"",Q22&"/"&V22&"/"&1,"")
A23: 推薦理由
H24: ※上記「該当する語学能力条件番号」欄で「日本語②」を選択した場合に、受入大学として「①相当以上の日本語能力を有している」と判断した理由を下欄に記載し、判断の根拠となる書類を本様式に添付願います。
A26: 他の奨学金の応募・受給状況
A27: 日本滞在経験がある場合、その期間等 | H27: （ | M27: ） | N27: （有の場合は、その期間、目的を記入。旅行は含まない）
L28: 年 | O28: 月 | P28: ～ | U28: 年 | X28: 月 | Y28: (目的： | AO28: )
L29: 年 | O29: 月 | P29: ～ | U29: 年 | X29: 月 | Y29: (目的： | AO29: )
A30: 国費留学の経験 | N30: ※有の場合は応募要件外
A31: 文部科学省への推薦
A32: 査証申請予定の 国籍国在外公館
A33: 出発国・都市名 （空港所在地名） | H33: 都市名 | T33: 国名 | W33: =IFERROR(VLOOKUP(AI33,'データ（学校番号・国番号等）'!D:E,2,FALSE),"自動表示") -> 自動表示 | AF33: 国番号
A34: 備考

Sheet 02
A1: 2025年度国費外国人留学生（日本語・日本文化研修留学生）推薦調書（別紙様式１）
A3: 大学名 | H3: =IFERROR(VLOOKUP(W3,'データ（学校番号・国番号等）'!$A$2:$B$74,2,0),"自動表示") -> 自動表示 | S3: 学校番号
A5: 申請区分 | H5: 日本語・日本文化研修留学生 | AF5: 推薦順位
A6: 氏名 | AF6: 第 | AI6: 位/ | AM6: 人中
A7: 生年月日 | N7: 年 | R7: 月 | V7: 日 | W7: （ | X7: =IFERROR(DATEDIF($AP$7,$AQ$7,"Y"),"") | AA7: 才） | AC7: 性別 | AP7: =IF(S7="","",H7&"/"&O7&"/"&S7) | AQ7: 45748
A8: 国籍 | H8: =IFERROR(VLOOKUP(AB8,'データ（学校番号・国番号等）'!$D$2:$E$292,2,0),"自動表示") -> 自動表示 | W8: 国番号
A9: 現住所 | H9: 都市名（又は州・県） | W9: 国名 | Z9: =IFERROR(VLOOKUP(AJ9,'データ（学校番号・国番号等）'!D:E,2,FALSE),"自動表示") -> 自動表示 | AG9: 国番号
A10: 渡日前住所 | H10: 都市名（又は州・県） | W10: 国名 | Z10: =IFERROR(VLOOKUP(AJ10,'データ（学校番号・国番号等）'!D:E,2,FALSE),"自動表示") -> 自動表示 | AG10: 国番号
A11: 電話番号 | U11: E-mail
A12: 在籍大学 | H12: 大学名
H13: 学部・学科名 | Z13: 主専攻
H14: 在籍期間 | P14: 20 | T14: 年 | W14: 月 | X14: ～ | Y14: 2025 | AC14: 年 | AD14: 8 | AF14: 月 | AH14: =IFERROR(DATEDIF(AP14,AQ14,"M"),"") | AJ14: ヶ月間 | AP14: =IF(U14<>"",P14&R14&"/"&U14&"/"&1,"") | AQ14: 45901
H15: 日本語・日本文化学習歴 | P15: 20 | T15: 年 | W15: 月 | X15: ～ | Y15: 2025 | AC15: 年 | AD15: 8 | AF15: 月 | AH15: =IFERROR(DATEDIF(AP15,AQ15,"M"),"") | AJ15: ヶ月間 | AP15: =IF(U15<>"",P15&R15&"/"&U15&"/"&1,"") | AQ15: 45901
H16: 卒業見込年月 | P16: 20 | T16: 年 | W16: 月 | X16: ※本プログラムに採用された場合の卒業見込年月
A17: 在籍大学以外の大学 ※該当者のみ | H17: 大学名
H18: 日本語・日本文化学習歴 | P18: 20 | T18: 年 | W18: 月 | X18: ～ | Y18: 20 | AC18: 年 | AF18: 月 | AH18: =IFERROR(DATEDIF(AP18,AQ18,"M")+1,"") | AJ18: ヶ月間 | AP18: =IF(AD18<>"",P18&R18&"/"&U18&"/"&1,"") | AQ18: =IF(AD18<>"",Y18&AA18&"/"&AD18&"/"&1,"")
A19: 該当する語学能力条件番号
A20: 日本語能力（資格） | H20: 日本語能力試験（JLPT） | P20: レベル | U20: 総合得点 | Z20: その他の 資格名 | AJ20: 得点／スコア等
A21: 英語能力（資格） | H21: TOEFL | N21: IELTS | T21: その他の 資格名 | AD21: 得点／スコア等
A22: 希望奨学金支給期間 | H22: 2025 | L22: 年 | O22: 月 | P22: ～ | Q22: 2026 | U22: 年 | X22: 月 | Z22: =IFERROR(DATEDIF(AP22,AQ22,"M")+1,"") | AB22: ヶ月間 | AP22: =IF(M22<>"",H22&"/"&M22&"/"&1,"") | AQ22: =IF(V22<>"",Q22&"/"&V22&"/"&1,"")
A23: 推薦理由
H24: ※上記「該当する語学能力条件番号」欄で「日本語②」を選択した場合に、受入大学として「①相当以上の日本語能力を有している」と判断した理由を下欄に記載し、判断の根拠となる書類を本様式に添付願います。
A26: 他の奨学金の応募・受給状況
A27: 日本滞在経験がある場合、その期間等 | H27: （ | M27: ） | N27: （有の場合は、その期間、目的を記入。旅行は含まない）
L28: 年 | O28: 月 | P28: ～ | U28: 年 | X28: 月 | Y28: (目的： | AO28: )
L29: 年 | O29: 月 | P29: ～ | U29: 年 | X29: 月 | Y29: (目的： | AO29: )
A30: 国費留学の経験 | N30: ※有の場合は応募要件外
A31: 文部科学省への推薦
A32: 査証申請予定の 国籍国在外公館
A33: 出発国・都市名 （空港所在地名） | H33: 都市名 | T33: 国名 | W33: =IFERROR(VLOOKUP(AI33,'データ（学校番号・国番号等）'!D:E,2,FALSE),"自動表示") -> 自動表示 | AF33: 国番号
A34: 備考

Sheet 推薦者一覧
B1: ※ 本シートのコメントが付された欄以外は、別紙様式１「推薦調書」シートから必要な事項がリンクされますので、入力不要です。
B2: ※ 本シートにて入力漏れや誤りを発見した場合は、必ずリンク元の別紙様式１「推薦調書」シートを修正してください（本シートを修正しないでください）。
B4: 2025年度国費外国人留学生（日本語・日本文化研修留学生）推薦者一覧
B5: 大学名
B6: 担当課・担当者名
B7: 問い合わせ先TEL
B8: 問い合わせ先E-mail
C10: 推薦者数合計 | F10: 人
B12: 推薦者一覧（別紙様式２）
B13: 学校番号 | C13: 大学名 | D13: 推薦 順位 | E13: 国番号 | F13: 国籍 | G13: 氏 名 | H13: 性別 | I13: 生年月日 | J13: 現住所 | L13: 渡日前住所 | N13: 電話番号 | O13: E-mail | P13: 在籍大学 | V13: 日本語・日本文化学習期間 | Y13: 該当する語学能力条件番号 | Z13: 日本語能力（資格） | AD13: 英語能力（資格） | AH13: 希望奨学金支給期間 | AM13: 他の奨学金の応募・受給状況 | AN13: 日本滞在経験 | AO13: 国費経験 | AP13: 文部科学省への推薦 | AQ13: 出発国・都市名 （空港所在地名） | AS13: 査証申請予定の 国籍国在外公館 | AT13: 備 考
J14: 都市名（又は州・県） | K14: 国名 | L14: 都市名（又は州・県） | M14: 国名 | P14: 大学名 | Q14: 学部・学科名 | R14: 主専攻 | S14: 在籍期間 （ヶ月間） | T14: 本プログラムに採用された場合の 卒業見込年月 | V14: 在籍大学 | W14: 他大学 | Z14: 日本語能力試験 JLPT | AB14: その他の資格 | AD14: TOEFL | AE14: IELTS | AF14: その他の資格 | AH14: 開始年月 | AJ14: 終了年月 | AL14: 期間
T15: 年 | U15: 月 | V15: （ヶ月間） | W15: 大学名 | X15: （ヶ月間） | Z15: レベル | AA15: 総合得点 | AB15: 資格名 | AC15: 得点／スコア等 | AF15: 資格名 | AG15: 得点／スコア等 | AH15: 年 | AI15: 月 | AJ15: 年 | AK15: 月 | AQ15: 都市名 | AR15: 国名
A16: 01 | B16: =INDIRECT(A16&"!W3") -> 0 | C16: =INDIRECT(A16&"!H3") -> 自動表示 | D16: =INDIRECT(A16&"!AG6") -> 0 | E16: =INDIRECT(A16&"!AB8") -> 0 | F16: =INDIRECT(A16&"!H8") -> 自動表示 | G16: =INDIRECT(A16&"!H6") -> 0 | H16: =INDIRECT(A16&"!AF7") -> 0 | I16: =INDIRECT(A16&"!AP7") | J16: =INDIRECT(A16&"!L9") -> 0 | K16: =INDIRECT(A16&"!Z9") -> 自動表示 | L16: =INDIRECT(A16&"!L10") -> 0 | M16: =INDIRECT(A16&"!Z10") -> 自動表示 | N16: =INDIRECT(A16&"!H11") -> 0 | O16: =INDIRECT(A16&"!Z11") -> 0 | P16: =INDIRECT(A16&"!P12") -> 0 | Q16: =INDIRECT(A16&"!P13") -> 0 | R16: =INDIRECT(A16&"!AF13") -> 0 | S16: =INDIRECT(A16&"!AH14") | T16: ="20"&INDIRECT(A16&"!R16") -> 20 | U16: =INDIRECT(A16&"!U16") -> 0 | V16: =INDIRECT(A16&"!AH15") | W16: =INDIRECT(A16&"!P17") -> 0 | X16: =INDIRECT(A16&"!AH18") | Y16: =INDIRECT(A16&"!H19") -> 0 | Z16: =INDIRECT(A16&"!S20") -> 0 | AA16: =INDIRECT(A16&"!X20") -> 0 | AB16: =INDIRECT(A16&"!AD20") -> 0 | AC16: =INDIRECT(A16&"!AM20") -> 0 | AD16: =INDIRECT(A16&"!K21") -> 0 | AE16: =INDIRECT(A16&"!Q21") -> 0 | AF16: =INDIRECT(A16&"!X21") -> 0 | AG16: =INDIRECT(A16&"!AG21") -> 0 | AH16: =INDIRECT(A16&"!H22") -> 2025 | AI16: =INDIRECT(A16&"!M22") -> 0 | AJ16: =INDIRECT(A16&"!Q22") -> 2026 | AK16: =INDIRECT(A16&"!V22") -> 0 | AL16: =INDIRECT(A16&"!Z22") | AM16: =INDIRECT(A16&"!H26") -> 0 | AN16: =INDIRECT(A16&"!I27") -> 0 | AO16: =INDIRECT(A16&"!H30") -> 0 | AP16: =INDIRECT(A16&"!H31") -> 0 | AQ16: =INDIRECT(A16&"!Ｋ33") -> 0 | AR16: =INDIRECT(A16&"!W33") -> 自動表示 | AS16: =INDIRECT(A16&"!H32") -> 0 | AT16: =INDIRECT(A16&"!H34") -> 0
A17: 02 | B17: =INDIRECT(A17&"!W3") -> 0 | C17: =INDIRECT(A17&"!H3") -> 自動表示 | D17: =INDIRECT(A17&"!AG6") -> 0 | E17: =INDIRECT(A17&"!AB8") -> 0 | F17: =INDIRECT(A17&"!H8") -> 自動表示 | G17: =INDIRECT(A17&"!H6") -> 0 | H17: =INDIRECT(A17&"!AF7") -> 0 | I17: =INDIRECT(A17&"!AP7") | J17: =INDIRECT(A17&"!L9") -> 0 | K17: =INDIRECT(A17&"!Z9") -> 自動表示 | L17: =INDIRECT(A17&"!L10") -> 0 | M17: =INDIRECT(A17&"!Z10") -> 自動表示 | N17: =INDIRECT(A17&"!H11") -> 0 | O17: =INDIRECT(A17&"!Z11") -> 0 | P17: =INDIRECT(A17&"!P12") -> 0 | Q17: =INDIRECT(A17&"!P13") -> 0 | R17: =INDIRECT(A17&"!AF13") -> 0 | S17: =INDIRECT(A17&"!AH14") | T17: ="20"&INDIRECT(A17&"!R16") -> 20 | U17: =INDIRECT(A17&"!U16") -> 0 | V17: =INDIRECT(A17&"!AH15") | W17: =INDIRECT(A17&"!P17") -> 0 | X17: =INDIRECT(A17&"!AH18") | Y17: =INDIRECT(A17&"!H19") -> 0 | Z17: =INDIRECT(A17&"!S20") -> 0 | AA17: =INDIRECT(A17&"!X20") -> 0 | AB17: =INDIRECT(A17&"!AD20") -> 0 | AC17: =INDIRECT(A17&"!AM20") -> 0 | AD17: =INDIRECT(A17&"!K21") -> 0 | AE17: =INDIRECT(A17&"!Q21") -> 0 | AF17: =INDIRECT(A17&"!X21") -> 0 | AG17: =INDIRECT(A17&"!AG21") -> 0 | AH17: =INDIRECT(A17&"!H22") -> 2025 | AI17: =INDIRECT(A17&"!M22") -> 0 | AJ17: =INDIRECT(A17&"!Q22") -> 2026 | AK17: =INDIRECT(A17&"!V22") -> 0 | AL17: =INDIRECT(A17&"!Z22") | AM17: =INDIRECT(A17&"!H26") -> 0 | AN17: =INDIRECT(A17&"!I27") -> 0 | AO17: =INDIRECT(A17&"!H30") -> 0 | AP17: =INDIRECT(A17&"!H31") -> 0 | AQ17: =INDIRECT(A17&"!Ｋ33") -> 0 | AR17: =INDIRECT(A17&"!W33") -> 自動表示 | AS17: =INDIRECT(A17&"!H32") -> 0 | AT17: =INDIRECT(A17&"!H34") -> 0
A18: 03 | B18: =INDIRECT(A18&"!W3") -> #REF! | C18: =INDIRECT(A18&"!H3") -> #REF! | D18: =INDIRECT(A18&"!AG6") -> #REF! | E18: =INDIRECT(A18&"!AB8") -> #REF! | F18: =INDIRECT(A18&"!H8") -> #REF! | G18: =INDIRECT(A18&"!H6") -> #REF! | H18: =INDIRECT(A18&"!AF7") -> #REF! | I18: =INDIRECT(A18&"!AP7") -> #REF! | J18: =INDIRECT(A18&"!L9") -> #REF! | K18: =INDIRECT(A18&"!Z9") -> #REF! | L18: =INDIRECT(A18&"!L10") -> #REF! | M18: =INDIRECT(A18&"!Z10") -> #REF! | N18: =INDIRECT(A18&"!H11") -> #REF! | O18: =INDIRECT(A18&"!Z11") -> #REF! | P18: =INDIRECT(A18&"!P12") -> #REF! | Q18: =INDIRECT(A18&"!P13") -> #REF! | R18: =INDIRECT(A18&"!AF13") -> #REF! | S18: =INDIRECT(A18&"!AH14") -> #REF! | T18: ="20"&INDIRECT(A18&"!R16") -> #REF! | U18: =INDIRECT(A18&"!U16") -> #REF! | V18: =INDIRECT(A18&"!AH15") -> #REF! | W18: =INDIRECT(A18&"!P17") -> #REF! | X18: =INDIRECT(A18&"!AH18") -> #REF! | Y18: =INDIRECT(A18&"!H19") -> #REF! | Z18: =INDIRECT(A18&"!S20") -> #REF! | AA18: =INDIRECT(A18&"!X20") -> #REF! | AB18: =INDIRECT(A18&"!AD20") -> #REF! | AC18: =INDIRECT(A18&"!AM20") -> #REF! | AD18: =INDIRECT(A18&"!K21") -> #REF! | AE18: =INDIRECT(A18&"!Q21") -> #REF! | AF18: =INDIRECT(A18&"!X21") -> #REF! | AG18: =INDIRECT(A18&"!AG21") -> #REF! | AH18: =INDIRECT(A18&"!H22") -> #REF! | AI18: =INDIRECT(A18&"!M22") -> #REF! | AJ18: =INDIRECT(A18&"!Q22") -> #REF! | AK18: =INDIRECT(A18&"!V22") -> #REF! | AL18: =INDIRECT(A18&"!Z22") -> #REF! | AM18: =INDIRECT(A18&"!H26") -> #REF! | AN18: =INDIRECT(A18&"!I27") -> #REF! | AO18: =INDIRECT(A18&"!H30") -> #REF! | AP18: =INDIRECT(A18&"!H31") -> #REF! | AQ18: =INDIRECT(A18&"!Ｋ33") -> #REF! | AR18: =INDIRECT(A18&"!W33") -> #REF! | AS18: =INDIRECT(A18&"!H32") -> #REF! | AT18: =INDIRECT(A18&"!H34") -> #REF!
A19: 04 | B19: =INDIRECT(A19&"!W3") -> #REF! | C19: =INDIRECT(A19&"!H3") -> #REF! | D19: =INDIRECT(A19&"!AG6") -> #REF! | E19: =INDIRECT(A19&"!AB8") -> #REF! | F19: =INDIRECT(A19&"!H8") -> #REF! | G19: =INDIRECT(A19&"!H6") -> #REF! | H19: =INDIRECT(A19&"!AF7") -> #REF! | I19: =INDIRECT(A19&"!AP7") -> #REF! | J19: =INDIRECT(A19&"!L9") -> #REF! | K19: =INDIRECT(A19&"!Z9") -> #REF! | L19: =INDIRECT(A19&"!L10") -> #REF! | M19: =INDIRECT(A19&"!Z10") -> #REF! | N19: =INDIRECT(A19&"!H11") -> #REF! | O19: =INDIRECT(A19&"!Z11") -> #REF! | P19: =INDIRECT(A19&"!P12") -> #REF! | Q19: =INDIRECT(A19&"!P13") -> #REF! | R19: =INDIRECT(A19&"!AF13") -> #REF! | S19: =INDIRECT(A19&"!AH14") -> #REF! | T19: ="20"&INDIRECT(A19&"!R16") -> #REF! | U19: =INDIRECT(A19&"!U16") -> #REF! | V19: =INDIRECT(A19&"!AH15") -> #REF! | W19: =INDIRECT(A19&"!P17") -> #REF! | X19: =INDIRECT(A19&"!AH18") -> #REF! | Y19: =INDIRECT(A19&"!H19") -> #REF! | Z19: =INDIRECT(A19&"!S20") -> #REF! | AA19: =INDIRECT(A19&"!X20") -> #REF! | AB19: =INDIRECT(A19&"!AD20") -> #REF! | AC19: =INDIRECT(A19&"!AM20") -> #REF! | AD19: =INDIRECT(A19&"!K21") -> #REF! | AE19: =INDIRECT(A19&"!Q21") -> #REF! | AF19: =INDIRECT(A19&"!X21") -> #REF! | AG19: =INDIRECT(A19&"!AG21") -> #REF! | AH19: =INDIRECT(A19&"!H22") -> #REF! | AI19: =INDIRECT(A19&"!M22") -> #REF! | AJ19: =INDIRECT(A19&"!Q22") -> #REF! | AK19: =INDIRECT(A19&"!V22") -> #REF! | AL19: =INDIRECT(A19&"!Z22") -> #REF! | AM19: =INDIRECT(A19&"!H26") -> #REF! | AN19: =INDIRECT(A19&"!I27") -> #REF! | AO19: =INDIRECT(A19&"!H30") -> #REF! | AP19: =INDIRECT(A19&"!H31") -> #REF! | AQ19: =INDIRECT(A19&"!Ｋ33") -> #REF! | AR19: =INDIRECT(A19&"!W33") -> #REF! | AS19: =INDIRECT(A19&"!H32") -> #REF! | AT19: =INDIRECT(A19&"!H34") -> #REF!
A20: 05 | B20: =INDIRECT(A20&"!W3") -> #REF! | C20: =INDIRECT(A20&"!H3") -> #REF! | D20: =INDIRECT(A20&"!AG6") -> #REF! | E20: =INDIRECT(A20&"!AB8") -> #REF! | F20: =INDIRECT(A20&"!H8") -> #REF! | G20: =INDIRECT(A20&"!H6") -> #REF! | H20: =INDIRECT(A20&"!AF7") -> #REF! | I20: =INDIRECT(A20&"!AP7") -> #REF! | J20: =INDIRECT(A20&"!L9") -> #REF! | K20: =INDIRECT(A20&"!Z9") -> #REF! | L20: =INDIRECT(A20&"!L10") -> #REF! | M20: =INDIRECT(A20&"!Z10") -> #REF! | N20: =INDIRECT(A20&"!H11") -> #REF! | O20: =INDIRECT(A20&"!Z11") -> #REF! | P20: =INDIRECT(A20&"!P12") -> #REF! | Q20: =INDIRECT(A20&"!P13") -> #REF! | R20: =INDIRECT(A20&"!AF13") -> #REF! | S20: =INDIRECT(A20&"!AH14") -> #REF! | T20: ="20"&INDIRECT(A20&"!R16") -> #REF! | U20: =INDIRECT(A20&"!U16") -> #REF! | V20: =INDIRECT(A20&"!AH15") -> #REF! | W20: =INDIRECT(A20&"!P17") -> #REF! | X20: =INDIRECT(A20&"!AH18") -> #REF! | Y20: =INDIRECT(A20&"!H19") -> #REF! | Z20: =INDIRECT(A20&"!S20") -> #REF! | AA20: =INDIRECT(A20&"!X20") -> #REF! | AB20: =INDIRECT(A20&"!AD20") -> #REF! | AC20: =INDIRECT(A20&"!AM20") -> #REF! | AD20: =INDIRECT(A20&"!K21") -> #REF! | AE20: =INDIRECT(A20&"!Q21") -> #REF! | AF20: =INDIRECT(A20&"!X21") -> #REF! | AG20: =INDIRECT(A20&"!AG21") -> #REF! | AH20: =INDIRECT(A20&"!H22") -> #REF! | AI20: =INDIRECT(A20&"!M22") -> #REF! | AJ20: =INDIRECT(A20&"!Q22") -> #REF! | AK20: =INDIRECT(A20&"!V22") -> #REF! | AL20: =INDIRECT(A20&"!Z22") -> #REF! | AM20: =INDIRECT(A20&"!H26") -> #REF! | AN20: =INDIRECT(A20&"!I27") -> #REF! | AO20: =INDIRECT(A20&"!H30") -> #REF! | AP20: =INDIRECT(A20&"!H31") -> #REF! | AQ20: =INDIRECT(A20&"!Ｋ33") -> #REF! | AR20: =INDIRECT(A20&"!W33") -> #REF! | AS20: =INDIRECT(A20&"!H32") -> #REF! | AT20: =INDIRECT(A20&"!H34") -> #REF!

Sheet 推薦調書作成要領
B1: 推薦調書（別紙様式１）作成要領（日本語・日本文化研修留学生）
A3: １. | B3: 数字は半角、英字は半角大文字、カタカナは全角文字とする。
A5: ２. | B5: 本様式は推薦者１名に対し１シート作成すること。推薦者が複数名いる場合は、シートをコピーし、シート名を推薦順位順に「01」、「02」、「03」、「04」…とすること。
B7: 推薦調書（別紙様式１）に入力されたデータが推薦者一覧（別紙様式２）へ転記される。推薦者全員分のデータが間違いなく推薦者一覧に反映されているか確認すること。
A9: ３. | B9: 「学校番号」、「国番号」欄は、「データ（学校番号・国番号等）」シートを参照し、該当の番号を入力すること。
A11: ４. | B11: 「氏名」欄は、ローマ字大文字で申請書の記載方法順（綴りはパスポートの表記と同一とすること。）に入力し、漢字名のある場合は、その後に括弧書きで併記すること。（電子データで漢字が表記できない場合はカタカナ表記とすること。）
B13: パスポートの表記と本名が一致しない場合（パスポート上はミドルネームを省略しているような場合）には、パスポートの表記を優先すること。パスポートの表記と一致しない場合、渡日時に便宜供与が得られない場合があるので注意すること。
A15: ５. | B15: 「現住所」欄は、申請時の住所（戸籍、勤務先等は不可）を入力すること。町名、通り名、番地等は不要。
A17: ６. | B17: 「渡日前住所」欄は、渡日直前の住所を入力すること。町名、通り名、番地等は不要。現住所から変更がない場合でも必ず入力すること。渡日空港を設定する際に重要であることを留意すること。
A19: ７. | B19: 「在籍大学」の「大学名」及び「学部・学科名」欄は、日本語（カタカナ）表記とし、渡日する年度の9月1日現在の大学及び学部・学科名を入力すること。在籍期間が４年を超えている場合には、その理由を「備考」欄に入力すること（休学、在籍大学が５年制大学である、等）
B21: 「在籍大学」の「主専攻」欄では、候補者の主専攻が「日本語」、「日本文化」又は「日本語・日本文化」であることを十分確認すること。
B23: 「在籍大学」の「卒業見込年月」欄は、本プログラムに採用された場合の在籍大学における卒業見込年月を入力すること。
A25: ８. | B25: 「在籍大学以外の大学」の「日本語・日本文化学習歴」欄は、在籍大学での日本語・日本文化学習期間が１年未満であり、在籍大学以外の大学での日本語・日本文化学習歴と合わせて学習期間が通算１年以上の者は入力すること。
A27: ９. | B27: 「該当する語学能力条件番号」欄は、募集要項「１．（５）語学能力」のうち該当する条件番号をプルダウン（日本語①、日本語②）から選択すること。なお、選択した条件番号は以下の項目等と整合する必要がある。
B29: ○「日本語①」： 推薦調書「日本語能力（資格）」の「日本語能力試験（JLPT）レベル」欄に「N2」以上のレベルが入力されている。
B31: ○「日本語②」： 日本語の語学能力条件①相当以上の日本語能力を有していると受入大学が判断した理由が「推薦理由」欄の所定欄に記載されているとともに、判断の根拠となる書類が文部科学省に提出されている。（なお、判断理由がJLPT以外の外部試験結果がレベルN2相当以上であることによる場合は、「推薦理由」欄の所定欄への記載及び根拠書類提出に加えて、推薦調書「日本語能力（資格）」の「その他の資格名」欄に得点等を入力すること。）
A33: 10. | B33: 「日本語能力（資格）」及び「英語能力（資格）」欄のうち該当しない箇所には「－」を入力すること。空欄としないこと。
A35: 11. | B35: 「希望奨学金支給期間」欄は、「2025年度日本語・日本文化研修留学生コースガイド」に記載された研修期間の設定に沿った適切な期間を入力すること。
A37: 12. | B37: 「推薦理由」欄は、今回推薦に至った理由を、簡潔にまとめて欄におさまるよう入力すること。（別紙は添付しないこと。）
B39: また、「推薦理由」欄下部の※印の欄には、「該当する語学能力条件番号」欄で「日本語②」を選択した場合のみ、入力すること。（上記9.の作成要領を参照すること。）
A41: 13. | B41: 「日本滞在経験」欄は、過去に日本に滞在していたことがある場合、新しい順に上から選択・入力すること。なお、旅行は含まない。
A43: 14. | B43: 「文部科学省への推薦」欄は、文部科学省への推薦前に、学内選考の結果「2025年度奨学金支給開始」の「日本政府（文部科学省）奨学金制度の大学推薦による日本語・日本文化研修留学生プログラム」に推薦予定であること及び文部科学省へ重複推薦された場合は全ての大学において国費外国人留学生に採用されないことを候補者に通知し、当該大学から推薦される意思があるかメールや書面等記録の残る形で確認し、「通知及び意思確認済み」を選択した上で提出すること。付されていないものは審査対象としない。
A45: 15. | B45: 「査証申請予定の国籍国在外公館」欄は、国籍国の在外公館（国籍国に在外公館が無い場合は兼館）にて国費外国人留学生として査証申請を行うため文部科学省から在外公館への査証申請便宜供与が必要な場合は「在外公館」を選択し、国籍国以外の大使館又は領事館にて査証申請を行う場合は「便宜供与不要」を選択すること。
B47: １か国に複数の在外公館がある場合、外務省ホームページにて直轄地域を確認し、正しい在外公館を選択すること。 選択肢について 「大」･･･大使館 「総」･･･総領事館 「事」･･･領事事務所（カッコ内は親公館名） 【在外公館一覧】 http://www.mofa.go.jp/mofaj/link/zaigai/index.html 【領事館の管轄区域一覧】 https://www.mofa.go.jp/mofaj/annai/zaigai/list/kankatsu.html 【兼轄国について】 http://www.mofa.go.jp/mofaj/files/000047796.pdf
B49: ※「在外公館」を選択した者についてのみ、文部科学省は国籍国の在外公館へ査証発給の便宜供与を行う。便宜供与を行う者について、大学は在留資格認定証明書の発給申請の手続きは行わないこと。
B51: ※「便宜供与不要」の者について、大学は在留資格認定証明書発給申請等、責任をもって渡日手続きを行う必要がある。（私費外国人留学生と同様の手続き）
A53: 16. | B53: 「出発国・都市名（空港所在地名）」欄は当該者が渡日時に使用する現地国際空港（原則国籍国）がある都市名を記載すること。文部科学省が交付する渡日航空券は、募集要項に記載の通り、「居住地最寄りの国際空港（原則国籍国内）」から受入大学が通常の経路として日本国内で使用する国際空港までの区間となることに留意すること。やむを得ない事情により国籍外の空港からの出発を希望する場合は、備考欄に理由を入力すること（内紛による空港閉鎖等）。
B55: なお、自己都合により国籍国外の空港から出発する場合、文部科学省は渡日航空券を交付しないため、備考欄に「旅費辞退」と入力すること。

Sheet 推薦調書作成例
A1: 2025年度国費外国人留学生（日本語・日本文化研修留学生）推薦調書（別紙様式１）
A3: 大学名 | H3: ■■大学 | S3: 学校番号 | W3: 123456
A5: 申請区分 | H5: 日本語・日本文化研修留学生 | AF5: 推薦順位
A6: 氏名 | H6: MONBU KAGAKU | AF6: 第 | AG6: 1 | AI6: 位/ | AK6: 3 | AM6: 人中
A7: 生年月日 | H7: 1977 | N7: 年 | O7: 5 | R7: 月 | S7: 12 | V7: 日 | W7: （ | X7: =IFERROR(DATEDIF($AP$7,$AQ$7,"Y"),"") -> 47 | AA7: 才） | AC7: 性別 | AF7: M | AP7: =IF(S7="","",H7&"/"&O7&"/"&S7) -> 1977/5/12 | AQ7: 45748
A8: 国籍 | H8: =IFERROR(VLOOKUP(AB8,'データ（学校番号・国番号等）'!$D$2:$E$311,2,0),"自動表示") -> インド | W8: 国番号 | AB8: 101
A9: 現住所 | H9: 都市名（又は州・県） | L9: New Delhi | W9: 国名 | Z9: =IFERROR(VLOOKUP(AJ9,'データ（学校番号・国番号等）'!D:E,2,FALSE),"自動表示") -> インド | AG9: 国番号 | AJ9: 101
A10: 渡日前住所 | H10: 都市名（又は州・県） | L10: New Delhi | W10: 国名 | Z10: =IFERROR(VLOOKUP(AJ10,'データ（学校番号・国番号等）'!D:E,2,FALSE),"自動表示") -> インド | AG10: 国番号 | AJ10: 101
A11: 電話番号 | H11: 000-000-0000 | U11: E-mail | Z11: xx@xx.xx.xx
A12: 在籍大学 | H12: 大学名 | P12: ○○大学
H13: 学部・学科名 | P13: 外国語学部・日本語学科 | Z13: 主専攻 | AF13: 日本語
H14: 在籍期間 | P14: 20 | R14: 25 | T14: 年 | U14: 4 | W14: 月 | X14: ～ | Y14: 2027 | AC14: 年 | AD14: 8 | AF14: 月 | AH14: =IFERROR(DATEDIF(AP14,AQ14,"M"),"") -> 5 | AJ14: ヶ月間 | AP14: =IF(U14<>"",P14&R14&"/"&U14&"/"&1,"") -> 2025/4/1 | AQ14: 45901
H15: 日本語・日本文化学習歴 | P15: 20 | R15: 24 | T15: 年 | U15: 4 | W15: 月 | X15: ～ | Y15: 2026 | AC15: 年 | AD15: 8 | AF15: 月 | AH15: =IFERROR(DATEDIF(AP15,AQ15,"M"),"") -> 17 | AJ15: ヶ月間 | AP15: =IF(U15<>"",P15&R15&"/"&U15&"/"&1,"") -> 2024/4/1 | AQ15: 45901
H16: 卒業見込年月 | P16: 20 | R16: 24 | T16: 年 | U16: 3 | W16: 月 | X16: ※本プログラムに採用された場合の卒業見込年月
A17: 在籍大学以外の大学 ※該当者のみ | H17: 大学名
H18: 日本語・日本文化学習歴 | P18: 20 | T18: 年 | W18: 月 | X18: ～ | Y18: 20 | AC18: 年 | AF18: 月 | AH18: =IFERROR(DATEDIF(AP18,AQ18,"M")+1,"") | AJ18: ヶ月間 | AP18: =IF(AD18<>"",P18&R18&"/"&U18&"/"&1,"") | AQ18: =IF(AD18<>"",Y18&AA18&"/"&AD18&"/"&1,"")
A19: 該当する語学能力条件番号 | H19: 日本語①
A20: 日本語能力（資格） | H20: 日本語能力試験（JLPT） | P20: レベル | S20: N2 | U20: 総合得点 | X20: 160 | Z20: その他の 資格名 | AD20: ― | AJ20: 得点／スコア等 | AM20: ―
A21: 英語能力（資格） | H21: TOEFL | K21: 100 | N21: IELTS | Q21: 7.5 | T21: その他の 資格名 | X21: ― | AD21: 得点／スコア等 | AG21: ―
A22: 希望奨学金支給期間 | H22: 2025 | L22: 年 | M22: 10 | O22: 月 | P22: ～ | Q22: 2026 | U22: 年 | V22: 9 | X22: 月 | Z22: =IFERROR(DATEDIF(AP22,AQ22,"M")+1,"") -> 12 | AB22: ヶ月間 | AP22: =IF(M22<>"",H22&"/"&M22&"/"&1,"") -> 2025/10/1 | AQ22: =IF(V22<>"",Q22&"/"&V22&"/"&1,"") -> 2026/9/1
A23: 推薦理由 | H23: ○○○○○…
H24: ※上記「該当する語学能力条件番号」欄で「日本語②」を選択した場合に、受入大学として「①相当以上の日本語能力を有している」と判断した理由を下欄に記載し、判断の根拠となる書類を本様式に添付願います。
A26: 他の奨学金の応募・受給状況 | H26: なし
A27: 日本滞在経験がある場合、その期間等 | H27: （ | I27: 有 | M27: ） | N27: （有の場合は、その期間、目的を記入。旅行は含まない）
H28: 2017 | L28: 年 | M28: 4 | O28: 月 | P28: ～ | Q28: 2018 | U28: 年 | V28: 3 | X28: 月 | Y28: (目的： | AB28: ▲▲大学留学 | AO28: )
H29: ― | L29: 年 | M29: ― | O29: 月 | P29: ～ | Q29: ― | U29: 年 | V29: ― | X29: 月 | Y29: (目的： | AB29: ― | AO29: )
A30: 国費留学の経験 | H30: 無 | N30: ※有の場合は応募要件外
A31: 文部科学省への推薦 | H31: 通知及び意思確認済み
A32: 査証申請予定の 国籍国在外公館 | H32: インド大
A33: 出発都市名 （空港所在地名） | H33: 都市名 | K33: Delhi | T33: 国名 | W33: =IFERROR(VLOOKUP(AI33,'データ（学校番号・国番号等）'!D:E,2,FALSE),"自動表示") -> インド | AF33: 国番号 | AI33: 101
A34: 備考

Sheet 提出前チェックシート
A1: 2025年度国費外国人留学生 大学推薦（日本語・日本文化研修留学生）
A2: 申請書類提出前チェックシート
A4: ○申請書類提出前に以下の項目について以下の要件が備わっているかもう一度ご確認ください。
A5: ○推薦者一覧に対してオートフィルタ機能を用いると要件の確認が容易にできます。
A7: 事項 | B7: ✔ | C7: 確認する内容
A8: 全体 | B8: □ | C8: 全ての項目について入力漏れ（空欄）がないか。
B9: □ | C9: 推薦調書の内容が推薦者一覧に適切にリンク表示されているか。
B10: □ | C10: 指定された文字で入力しているか。(数字は半角など）
A11: 希望奨学金支給期間 | B11: □ | C11: 学期開始日に沿った適切な期間が設定されているか。
A12: 語学能力条件 | B12: □ | C12: 選択した語学能力条件番号に対応して、必要な項目が入力又は必要書類が提出されているか。
A13: 出発国・都市名（空港所在地名） | B13: □ | C13: 国籍と違う国を入力していないか。
C14: ※やむを得ない事情により国籍外の空港を利用する場合は、備考欄に理由を入力すること（内紛による空港閉鎖等）。 なお、自己都合により国籍国外の空港を利用する場合は、文部科学省からは旅費は支給されない。
A15: 推薦人数 | B15: □ | C15: 推薦可能人数を超過していないか。

Sheet データ（学校番号・国番号等）
A1: 学校番号 | B1: 大学名 | C1: 性別 | D1: 国番号 | E1: 国名 | F1: 主専攻 | G1: 有無 | H1: 年_西暦 | I1: 年_下2桁 | J1: 月 | K1: 日 | L1: JLPTレベル | M1: 文部科学省への推薦 | N1: 査証申請予定の 国籍国在外公館 | O1: 該当する語学能力条件番号
A2: 101003 | B2: 北海道大学 | C2: M | D2: 101 | E2: インド | F2: 日本語 | G2: 有 | H2: ― | I2: ― | J2: ― | K2: ― | L2: ― | M2: 通知及び意思確認済み | N2: 便宜供与不要 | O2: 日本語①
A3: 101004 | B3: 北海道教育大学 | C3: F | D3: 102 | E3: ブータン | F3: 日本文化 | G3: 無 | H3: 1970 | I3: 00 | J3: 1 | K3: 1 | L3: N1 | N3: <アジア地域> | O3: 日本語②
A4: 102001 | B4: 弘前大学 | D4: 103 | E4: インドネシア | F4: 日本語・日本文化 | H4: 1971 | I4: 01 | J4: 2 | K4: 2 | L4: N2 | N4: インド大
A5: 102002 | B5: 岩手大学 | D5: 104 | E5: カンボジア | H5: 1972 | I5: 02 | J5: 3 | K5: 3 | L5: N3 | N5: コルカタ総
A6: 102003 | B6: 東北大学 | D6: 105 | E6: シンガポール | H6: 1973 | I6: 03 | J6: 4 | K6: 4 | L6: N4 | N6: チェンナイ総
A7: 102004 | B7: 秋田大学 | D7: 106 | E7: スリランカ | H7: 1974 | I7: 04 | J7: 5 | K7: 5 | L7: N5 | N7: ベンガルール総
A8: 102005 | B8: 山形大学 | D8: 107 | E8: タイ | H8: 1975 | I8: 05 | J8: 6 | K8: 6 | N8: ムンバイ総
A9: 103001 | B9: 茨城大学 | D9: 108 | E9: 大韓民国 | H9: 1976 | I9: 06 | J9: 7 | K9: 7 | N9: インドネシア大
A10: 103002 | B10: 宇都宮大学 | D10: 109-1 | E10: 中国 | H10: 1977 | I10: 07 | J10: 8 | K10: 8 | N10: スラバヤ総
A11: 103003 | B11: 群馬大学 | D11: 109-2 | E11: 中国（香港） | H11: 1978 | I11: 08 | J11: 9 | K11: 9 | N11: マカッサル事 (ｽﾗﾊﾞﾔ総)
A12: 103004 | B12: 埼玉大学 | D12: 109-3 | E12: 中国（マカオ） | H12: 1979 | I12: 09 | J12: 10 | K12: 10 | N12: デンパサール総
A13: 103005 | B13: 千葉大学 | D13: 110 | E13: ネパール | H13: 1980 | I13: 10 | J13: 11 | K13: 11 | N13: メダン総
A14: 103006 | B14: 横浜国立大学 | D14: 111 | E14: パキスタン | H14: 1981 | I14: 11 | J14: 12 | K14: 12 | N14: カンボジア大
A15: 103007 | B15: 山梨大学 | D15: 112 | E15: バングラデシュ | H15: 1982 | I15: 12 | K15: 13 | N15: シンガポール大
A16: 103008 | B16: 信州大学 | D16: 113 | E16: 東ティモール | H16: 1983 | I16: 13 | K16: 14 | N16: スリランカ大
A17: 103009 | B17: 新潟大学 | D17: 114 | E17: フィリピン | H17: 1984 | I17: 14 | K17: 15 | N17: タイ大
A18: 103010 | B18: 筑波大学 | D18: 115 | E18: ブルネイ | H18: 1985 | I18: 15 | K18: 16 | N18: チェンマイ総
A19: 103014 | B19: 上越教育大学 | D19: 116 | E19: ベトナム | H19: 1986 | I19: 16 | K19: 17 | N19: 韓国大
A20: 104001 | B20: お茶の水女子大学 | D20: 117 | E20: マレーシア | H20: 1987 | I20: 17 | K20: 18 | N20: 済州総
A21: 104005 | B21: 東京外国語大学 | D21: 118 | E21: ミャンマー | H21: 1988 | I21: 18 | K21: 19 | N21: 釜山総
A22: 104006 | B22: 東京学芸大学 | D22: 119 | E22: モルディブ | H22: 1989 | I22: 19 | K22: 20 | N22: 中国大
A23: 104013 | B23: 一橋大学 | D23: 120 | E23: モンゴル | H23: 1990 | I23: 20 | K23: 21 | N23: 広州総
A24: 105001 | B24: 富山大学 | D24: 121 | E24: ラオス | H24: 1991 | I24: 21 | K24: 22 | N24: 上海総
A25: 105002 | B25: 金沢大学 | D25: 190 | E25: その他（アジア地域） | H25: 1992 | I25: 22 | K25: 23 | N25: 重慶総
A26: 105003 | B26: 福井大学 | D26: 201 | E26: オーストラリア | H26: 1993 | I26: 23 | K26: 24 | N26: 瀋陽総
... A33: 106005 | B33: 大阪大学 | D33: 208 | E33: バヌアツ | H33: 2000 | I33: 30 | K33: 31 | N33: ﾊﾞﾝｸﾞﾗﾃﾞｼｭ大
A34: 106007 | B34: 大阪教育大学 | D34: 209 | E34: パプアニューギニア | H34: 2001 | N34: 東ティモール大
A35: 106008 | B35: 神戸大学 | D35: 210 | E35: パラオ | H35: 2002 | N35: フィリピン大
A36: 106010 | B36: 奈良教育大学 | D36: 211 | E36: フィジー | H36: 2003 | N36: セブ事 (ﾌｨﾘﾋﾟﾝ大）
A37: 106011 | B37: 奈良女子大学 | D37: 212 | E37: キリバス | H37: 2004 | N37: ダバオ事 （ﾌｨﾘﾋﾟﾝ大）
A38: 106012 | B38: 和歌山大学 | D38: 213 | E38: ツバル | H38: 2005 | N38: ブルネイ大
A39: 106014 | B39: 兵庫教育大学 | D39: 214 | E39: ナウル | H39: 2006 | N39: ベトナム大
A40: 107001 | B40: 鳥取大学 | D40: 215 | E40: マーシャル | H40: 2007 | N40: ホーチミン総
A41: 107002 | B41: 島根大学 | D41: 216 | E41: ミクロネシア | H41: 2008 | N41: マレーシア大
A42: 107003 | B42: 岡山大学 | D42: 290 | E42: その他（大洋州地域） | H42: 2009 | N42: コタキナバル事 (ﾏﾚｰｼｱ大）
A43: 107004 | B43: 広島大学 | D43: 301 | E43: 米国 | H43: 2010 | N43: ペナン総
A44: 107005 | B44: 山口大学 | D44: 302 | E44: カナダ | H44: 2011 | N44: ミャンマー大
A45: 108002 | B45: 香川大学 | D45: 390 | E45: その他（北米地域） | H45: 2012 | N45: モルディブ大
... A61: 304065 | B61: 法政大学 | D61: 416 | E61: グレナダ | H61: 2028 | N61: ﾊﾟﾌﾟｱﾆｭｰｷﾞﾆｱ大
...
